BEGIN:VCALENDAR
VERSION:2.0
PRODID:-//Luxembourg Brotherhood of America - ECPv6.15.20//NONSGML v1.0//EN
CALSCALE:GREGORIAN
METHOD:PUBLISH
X-WR-CALNAME:Luxembourg Brotherhood of America
X-ORIGINAL-URL:https://www.luxbrotherhood.org
X-WR-CALDESC:Events for Luxembourg Brotherhood of America
REFRESH-INTERVAL;VALUE=DURATION:PT1H
X-Robots-Tag:noindex
X-PUBLISHED-TTL:PT1H
BEGIN:VTIMEZONE
TZID:America/Chicago
BEGIN:DAYLIGHT
TZOFFSETFROM:-0600
TZOFFSETTO:-0500
TZNAME:CDT
DTSTART:20240310T080000
END:DAYLIGHT
BEGIN:STANDARD
TZOFFSETFROM:-0500
TZOFFSETTO:-0600
TZNAME:CST
DTSTART:20241103T070000
END:STANDARD
BEGIN:DAYLIGHT
TZOFFSETFROM:-0600
TZOFFSETTO:-0500
TZNAME:CDT
DTSTART:20250309T080000
END:DAYLIGHT
BEGIN:STANDARD
TZOFFSETFROM:-0500
TZOFFSETTO:-0600
TZNAME:CST
DTSTART:20251102T070000
END:STANDARD
BEGIN:DAYLIGHT
TZOFFSETFROM:-0600
TZOFFSETTO:-0500
TZNAME:CDT
DTSTART:20260308T080000
END:DAYLIGHT
BEGIN:STANDARD
TZOFFSETFROM:-0500
TZOFFSETTO:-0600
TZNAME:CST
DTSTART:20261101T070000
END:STANDARD
BEGIN:DAYLIGHT
TZOFFSETFROM:-0600
TZOFFSETTO:-0500
TZNAME:CDT
DTSTART:20270314T080000
END:DAYLIGHT
BEGIN:STANDARD
TZOFFSETFROM:-0500
TZOFFSETTO:-0600
TZNAME:CST
DTSTART:20271107T070000
END:STANDARD
END:VTIMEZONE
BEGIN:VEVENT
DTSTART;TZID=America/Chicago:20251214T153000
DTEND;TZID=America/Chicago:20251214T190000
DTSTAMP:20260420T141156
CREATED:20250909T235548Z
LAST-MODIFIED:20250909T235823Z
UID:4208-1765726200-1765738800@www.luxbrotherhood.org
SUMMARY:SECTION 3 - HOLIDAY MEETING
DESCRIPTION:Section 3’s Annual Holiday Meeting will be held on Sunday\, December 14th\, 2025\, starting at 3:30 PM.\nAn invite will be sent out in November but save the date.\n\nLOCATION:\nMoretti’s Ristorante & Pizzeria EP\n6727 N Olmsted Ave\nChicago\, IL 60631\n\nCost is $45 for members and new members. If you attend\, then $25 of your cost will be applied to 2026 Section 3 dues\, so your net cost is $20 for this event. (JoAnn’s earlier contribution this year will fund $5\, and the Section’s interest income will fund $20 of the event’s $25 shortfall per member.) Non-members will pay $45\, but why be a non-member if membership comes free? You do not need to be of Luxy heritage to be a member.\n\nChildren under 12 years old will cost $20. The North Pole has been contacted\, and Santa said he will be in Chicago that day and will greet us at our meeting.\n\nFood will be the same as last year. It was suggested that we have the meeting start earlier\, so we are making the timetable an hour earlier than last year. It will now be as follows:\n\n• Set up at 2:45 PM\n• Arrival at 3:30 PM with the children\, to be especially prompt.\n• From 3:30 PM to 4:15 PM\, everyone arrives\, and children meet Santa. The bar is open – cash bar for all beverages\, including soft drinks.\n• Our Section 3 meeting will start promptly at 4:15 PM – 5 PM.\n• Dinner Buffet from 5 PM to 6:30 PM\n• Strike & Pack Up at 7 PM\n• Wheels Up by 7:30\n\nThe Bears play the Browns at noon\, so the game will not conflict with the 3:30 PM start time.
URL:https://www.luxbrotherhood.org/event/section-3-holiday-meeting/
LOCATION:Moretti’s Ristorante & Pizzeria EP\, 6727 N Olmsted Ave\, Chicago\, IL\, 60631\, United States
ATTACH;FMTTYPE=image/jpeg:https://www.luxbrotherhood.org/wp-content/uploads/2025/09/1_Luxembourg-Place-de-la-Constitution-Wantermaart-2023-0011064-Pierre-BK-Luembourg-City-Tourist-Office.jpeg
END:VEVENT
BEGIN:VEVENT
DTSTART;TZID=America/Chicago:20260315T130000
DTEND;TZID=America/Chicago:20260315T150000
DTSTAMP:20260420T141156
CREATED:20260221T232447Z
LAST-MODIFIED:20260221T232447Z
UID:4680-1773579600-1773586800@www.luxbrotherhood.org
SUMMARY:Luxembourg in America - FREE Webinar
DESCRIPTION:FREE WEBINAR FILM SCREENING  \n🇺🇸 ALL ARE WELCOME! 🇱🇺\nWe’re excited to support Luxembourg Legacy as they present their webinar series with a special online screening of the 2024 documentary\, “Luxembourg in America” by filmmaker Geoff Thompson! \n🗓 Sunday\, March 15\n⏰ 1:00 PM Central Time (U.S. & Canada)\n📍 Online via Zoom — FREE to attend! \nThis powerful 40-minute documentary explores the story of Luxembourg immigration to the United States\, focusing on the vibrant Luxembourgish communities in and around Belgium\, Wisconsin. Through live footage and interviews filmed during the 38th Annual Luxembourg Fest\, the film highlights the history\, identity\, and enduring bonds that connect Luxembourg-Americans to the modern-day Grand Duchy. \n✨ Special bonus: Geoff Thompson will join live from Kleinbettingen\, Luxembourg\, to introduce the film and participate in a Q&A afterward! \n🎟 Registration link:\nhttps://us02web.zoom.us/webinar/register/2117708389770/WN_RUBA-gDVSNK_Y-eqcrSaOA \n💙 While this webinar is free of charge\, attendees are invited (but not required) to make a free-will\, tax-deductible donation to support the important work of the Luxembourg American Cultural Society. \n👨‍👩‍👧‍👦 All are invited—please feel free to share this with family and friends who love Luxembourg history and heritage!
URL:https://www.luxbrotherhood.org/event/luxembourg-in-america-free-webinar/
LOCATION:Virtual
ATTACH;FMTTYPE=image/jpeg:https://www.luxbrotherhood.org/wp-content/uploads/2026/02/Luxembourg-in-America-Movie-Poster-Large.jpeg
ORGANIZER;CN="Kevin Wester":MAILTO:kevin@luxdualcitizenship.com
END:VEVENT
BEGIN:VEVENT
DTSTART;TZID=America/Chicago:20260426T160000
DTEND;TZID=America/Chicago:20260426T200000
DTSTAMP:20260420T141156
CREATED:20260219T000924Z
LAST-MODIFIED:20260219T035656Z
UID:4666-1777219200-1777233600@www.luxbrotherhood.org
SUMMARY:32nd ANNUAL - SAUERBRATEN DINNER DANCE
DESCRIPTION:FOR SPONSORSHIP OPPORTUNITIES \nPlease contact: Robert Hansen via sponsorship@luxbrotherhood.org
URL:https://www.luxbrotherhood.org/event/32nd-annual-sauerbraten-dinner-dance/
LOCATION:Chevy Chase Country Club\, 1000 N Milwaukee Ave.\, Wheeling\, IL\, 60090
ORGANIZER;CN="Megan Hansen":MAILTO:Tickets@LuxBrotherhood.org
END:VEVENT
BEGIN:VEVENT
DTSTART;TZID=America/Chicago:20260503T100000
DTEND;TZID=America/Chicago:20260503T120000
DTSTAMP:20260420T141156
CREATED:20260318T190015Z
LAST-MODIFIED:20260318T190015Z
UID:4835-1777802400-1777809600@www.luxbrotherhood.org
SUMMARY:Carmelite Mass 2026
DESCRIPTION:The 2026 Carmelite Mass will be held on May 3 at 10 am.\nLOCATION\nCarmelite Monastery\n949 N River Road\nDes Plaines\, Illinois\nThey accept boxed\, canned\, or bagged non-perishable food items for their pantry.\nOur Lady of Luxembourg statue will be displayed at the Mass.\nOptional visit with the sisters and optional Hackney’s lunch to follow.\nVisit our website for more information\, or contact:\nJean Schmit Spagnoli\n847.948.1448\nJeanLBA15@gmail.com
URL:https://www.luxbrotherhood.org/event/carmelite-mass-2026/
LOCATION:Carmelite Monastery\, 949 N. River Road\, Des Plaines\, Illinois\, 60016
ATTACH;FMTTYPE=image/jpeg:https://www.luxbrotherhood.org/wp-content/uploads/2026/03/Our-Lady-of-Luxembourg.jpeg
END:VEVENT
BEGIN:VEVENT
DTSTART;VALUE=DATE:20260516
DTEND;VALUE=DATE:20260518
DTSTAMP:20260420T141156
CREATED:20260318T202133Z
LAST-MODIFIED:20260329T051616Z
UID:4854-1778889600-1779062399@www.luxbrotherhood.org
SUMMARY:2026 Cultural Events
DESCRIPTION:The LBA plans to have representation at various cultural festivals throughout the Chicago suburbs\, including:\nSkokie\nhttps://www.skokieculturefest.org/# (May 16-17)\nMt. Prospect\nhttps://www.mountprospect.org/community/mount-prospect-celebration-of-cultures (August 22)\nFor more information\, please contact:\nTony Viola\n773.457.0878\nanthony@acschgo.com
URL:https://www.luxbrotherhood.org/event/2026-cultural-events/
ORGANIZER;CN="Tony Viola":MAILTO:tony@filtersbyacs.com
END:VEVENT
BEGIN:VEVENT
DTSTART;TZID=America/Chicago:20260802T130000
DTEND;TZID=America/Chicago:20260802T170000
DTSTAMP:20260420T141156
CREATED:20260318T193239Z
LAST-MODIFIED:20260318T193239Z
UID:4839-1785675600-1785690000@www.luxbrotherhood.org
SUMMARY:89th Annual Schobermesse
DESCRIPTION:The LBA 89th Annual Schobermesse will be held on August 2 from 1 pm to 5 pm.\nLOCATION:\nLUXIE CLUB\n416 High Street\nAurora\, Illinois\nHIGHLIGHTS:\nLive music by Devon DeLux; Luxembourg sausage\, hot dogs\, chips\, and soft drinks available for purchase; games and activities for the kids; the famous LBA Wheel of Meat; Luxie’s famous outdoor bowling & indoor bingo; cash raffles; and a cash bar.\nBring your own picnic\, tables\, and chairs. If you have any questions\, please contact: LBASchobermesse@yahoo.com
URL:https://www.luxbrotherhood.org/event/89th-annual-schobermesse/
LOCATION:American Luxembourger Club\, 416 High Street\, Aurora\, IL\, 60505\, United States
ATTACH;FMTTYPE=image/jpeg:https://www.luxbrotherhood.org/wp-content/uploads/2026/03/89th-Schobermesse.jpeg
ORGANIZER;CN="Section 3":MAILTO:paul.krantz@comcast.net
END:VEVENT
END:VCALENDAR