BEGIN:VCALENDAR
VERSION:2.0
PRODID:-//Luxembourg Brotherhood of America - ECPv6.15.20//NONSGML v1.0//EN
CALSCALE:GREGORIAN
METHOD:PUBLISH
X-ORIGINAL-URL:https://www.luxbrotherhood.org
X-WR-CALDESC:Events for Luxembourg Brotherhood of America
REFRESH-INTERVAL;VALUE=DURATION:PT1H
X-Robots-Tag:noindex
X-PUBLISHED-TTL:PT1H
BEGIN:VTIMEZONE
TZID:America/Chicago
BEGIN:DAYLIGHT
TZOFFSETFROM:-0600
TZOFFSETTO:-0500
TZNAME:CDT
DTSTART:20240310T080000
END:DAYLIGHT
BEGIN:STANDARD
TZOFFSETFROM:-0500
TZOFFSETTO:-0600
TZNAME:CST
DTSTART:20241103T070000
END:STANDARD
BEGIN:DAYLIGHT
TZOFFSETFROM:-0600
TZOFFSETTO:-0500
TZNAME:CDT
DTSTART:20250309T080000
END:DAYLIGHT
BEGIN:STANDARD
TZOFFSETFROM:-0500
TZOFFSETTO:-0600
TZNAME:CST
DTSTART:20251102T070000
END:STANDARD
BEGIN:DAYLIGHT
TZOFFSETFROM:-0600
TZOFFSETTO:-0500
TZNAME:CDT
DTSTART:20260308T080000
END:DAYLIGHT
BEGIN:STANDARD
TZOFFSETFROM:-0500
TZOFFSETTO:-0600
TZNAME:CST
DTSTART:20261101T070000
END:STANDARD
END:VTIMEZONE
BEGIN:VEVENT
DTSTART;TZID=America/Chicago:20251214T153000
DTEND;TZID=America/Chicago:20251214T190000
DTSTAMP:20260420T111211
CREATED:20250909T235548Z
LAST-MODIFIED:20250909T235823Z
UID:4208-1765726200-1765738800@www.luxbrotherhood.org
SUMMARY:SECTION 3 - HOLIDAY MEETING
DESCRIPTION:Section 3’s Annual Holiday Meeting will be held on Sunday\, December 14th\, 2025\, starting at 3:30 PM.\nAn invite will be sent out in November but save the date.\n\nLOCATION:\nMoretti’s Ristorante & Pizzeria EP\n6727 N Olmsted Ave\nChicago\, IL 60631\n\nCost is $45 for members and new members. If you attend\, then $25 of your cost will be applied to 2026 Section 3 dues\, so your net cost is $20 for this event. (JoAnn’s earlier contribution this year will fund $5\, and the Section’s interest income will fund $20 of the event’s $25 shortfall per member.) Non-members will pay $45\, but why be a non-member if membership comes free? You do not need to be of Luxy heritage to be a member.\n\nChildren under 12 years old will cost $20. The North Pole has been contacted\, and Santa said he will be in Chicago that day and will greet us at our meeting.\n\nFood will be the same as last year. It was suggested that we have the meeting start earlier\, so we are making the timetable an hour earlier than last year. It will now be as follows:\n\n• Set up at 2:45 PM\n• Arrival at 3:30 PM with the children\, to be especially prompt.\n• From 3:30 PM to 4:15 PM\, everyone arrives\, and children meet Santa. The bar is open – cash bar for all beverages\, including soft drinks.\n• Our Section 3 meeting will start promptly at 4:15 PM – 5 PM.\n• Dinner Buffet from 5 PM to 6:30 PM\n• Strike & Pack Up at 7 PM\n• Wheels Up by 7:30\n\nThe Bears play the Browns at noon\, so the game will not conflict with the 3:30 PM start time.
URL:https://www.luxbrotherhood.org/event/section-3-holiday-meeting/
LOCATION:Moretti’s Ristorante & Pizzeria EP\, 6727 N Olmsted Ave\, Chicago\, IL\, 60631\, United States
ATTACH;FMTTYPE=image/jpeg:https://www.luxbrotherhood.org/wp-content/uploads/2025/09/1_Luxembourg-Place-de-la-Constitution-Wantermaart-2023-0011064-Pierre-BK-Luembourg-City-Tourist-Office.jpeg
END:VEVENT
END:VCALENDAR